data_stdin
_audit_creation_method 'critic2-4f1eba8'
_cell_length_a         6.0700000000
_cell_length_b         5.9400000000
_cell_length_c         6.1400000000
_cell_angle_alpha        90.0000
_cell_angle_beta        90.0000
_cell_angle_gamma        90.0000
_cell_volume           221.382612
_space_group_crystal_system orthorhombic
_space_group_IT_number 41
_space_group_name_H-M_alt 'Aea2'
_space_group_name_Hall 'A 2 -2ac'
loop_
_space_group_symop_operation_xyz
  'x,y,z'
  '-x,-y,z'
  '-1/2-x,-1/2+y,z'
  '-1/2+x,-1/2-y,z'
  'x,-1/2+y,-1/2+z'
  '-x,-1/2-y,-1/2+z'
  '-1/2-x,y,-1/2+z'
  '-1/2+x,-y,-1/2+z'
loop_
_atom_site_label
_atom_site_type_symbol
_atom_site_fract_x
_atom_site_fract_y
_atom_site_fract_z
S      S      0.00000000000000     0.00000000000000     0.00000000000000
O      O      0.14000000000000     0.15000000000000     0.11800000000000
