data_stdin
_audit_creation_method 'critic2-4f1eba8'
_cell_length_a         5.0290000000
_cell_length_b         5.0290000000
_cell_length_c         5.0290000000
_cell_angle_alpha        58.5200
_cell_angle_beta        58.5200
_cell_angle_gamma        58.5200
_cell_volume            86.890712
_space_group_crystal_system trigonal
_space_group_IT_number 155
_space_group_name_H-M_alt 'R32'
_space_group_name_Hall 'R 3 2"'
loop_
_space_group_symop_operation_xyz
  'x,y,z'
  'y,z,x'
  'z,x,y'
  '-z,-y,-x'
  '-x,-z,-y'
  '-y,-x,-z'
loop_
_atom_site_label
_atom_site_type_symbol
_atom_site_fract_x
_atom_site_fract_y
_atom_site_fract_z
Al     Al     0.23700000000000     0.23700000000000     0.23700000000000
F      F      0.43000000000000     0.57000000000000     0.00000000000000
F      F      0.07000000000000     0.93000000000000     0.50000000000000
