data_stdin
_audit_creation_method 'critic2-4f1eba8'
_cell_length_a         3.8350000000
_cell_length_b         3.8350000000
_cell_length_c         5.2550000000
_cell_angle_alpha        90.0000
_cell_angle_beta        90.0000
_cell_angle_gamma       120.0000
_cell_volume            66.932044
_space_group_crystal_system trigonal
_space_group_IT_number 164
_space_group_name_H-M_alt 'P-3m1'
_space_group_name_Hall '-P 3 2"'
loop_
_space_group_symop_operation_xyz
  'x,y,z'
  '-x,-y,-z'
  '-y,x-y,z'
  'y,-x+y,-z'
  '-x+y,-x,z'
  'x-y,x,-z'
  'y,x,-z'
  '-y,-x,z'
  'x-y,-y,-z'
  '-x+y,y,z'
  '-x,-x+y,-z'
  'x,x-y,z'
loop_
_atom_site_label
_atom_site_type_symbol
_atom_site_fract_x
_atom_site_fract_y
_atom_site_fract_z
Ni     Ni     0.00000000000000     0.00000000000000     0.00000000000000
Te     Te     0.33333333000000     0.66666667000000     0.25000000000000
