data_stdin
_audit_creation_method 'critic2-4f1eba8'
_cell_length_a         6.2300267522
_cell_length_b         6.2300267522
_cell_length_c         6.2300267522
_cell_angle_alpha        35.9964
_cell_angle_beta        35.9964
_cell_angle_gamma        35.9964
_cell_volume            74.709226
_space_group_crystal_system trigonal
_space_group_IT_number 166
_space_group_name_H-M_alt 'R-3m'
_space_group_name_Hall '-R 3 2"'
loop_
_space_group_symop_operation_xyz
  'x,y,z'
  '-x,-y,-z'
  'y,z,x'
  '-y,-z,-x'
  'z,x,y'
  '-z,-x,-y'
  '-z,-y,-x'
  'z,y,x'
  '-x,-z,-y'
  'x,z,y'
  '-y,-x,-z'
  'y,x,z'
loop_
_atom_site_label
_atom_site_type_symbol
_atom_site_fract_x
_atom_site_fract_y
_atom_site_fract_z
Cd     Cd     0.00000000000000     0.00000000000000     0.00000000000000
Cl     Cl     0.25000000000000     0.25000000000000     0.25000000000000
