data_stdin
_audit_creation_method 'critic2-4f1eba8'
_cell_length_a        10.7370000000
_cell_length_b        10.7370000000
_cell_length_c         4.1790000000
_cell_angle_alpha        90.0000
_cell_angle_beta        90.0000
_cell_angle_gamma       120.0000
_cell_volume           417.223641
_space_group_crystal_system hexagonal
_space_group_IT_number 174
_space_group_name_H-M_alt 'P-6'
_space_group_name_Hall 'P -6'
loop_
_space_group_symop_operation_xyz
  'x,y,z'
  '-x+y,-x,-z'
  '-y,x-y,z'
  'x,y,-z'
  '-x+y,-x,z'
  '-y,x-y,-z'
loop_
_atom_site_label
_atom_site_type_symbol
_atom_site_fract_x
_atom_site_fract_y
_atom_site_fract_z
Gd     Gd     0.81400000000000     0.17900000000000     0.50000000000000
S      S      0.18400000000000     0.36800000000000     0.50000000000000
I      I      0.51700000000000     0.49800000000000     0.00000000000000
