data_stdin
_audit_creation_method 'critic2-4f1eba8'
_cell_length_a         3.8110000000
_cell_length_b         3.8110000000
_cell_length_c         6.2340000000
_cell_angle_alpha        90.0000
_cell_angle_beta        90.0000
_cell_angle_gamma       120.0000
_cell_volume            78.410699
_space_group_crystal_system hexagonal
_space_group_IT_number 186
_space_group_name_H-M_alt 'P6_3mc'
_space_group_name_Hall 'P 6c -2c'
loop_
_space_group_symop_operation_xyz
  'x,y,z'
  'x-y,x,-1/2+z'
  '-y,x-y,z'
  '-x,-y,-1/2+z'
  '-x+y,-x,z'
  'y,-x+y,-1/2+z'
  'y,x,-1/2+z'
  'x,x-y,z'
  'x-y,-y,-1/2+z'
  '-y,-x,z'
  '-x,-x+y,-1/2+z'
  '-x+y,y,z'
loop_
_atom_site_label
_atom_site_type_symbol
_atom_site_fract_x
_atom_site_fract_y
_atom_site_fract_z
Zn     Zn     0.33333000000000     0.66667000000000     0.00000000000000
S      S      0.33333000000000     0.66667000000000     0.38500000000000
