data_stdin
_audit_creation_method 'critic2-4f1eba8'
_cell_length_a         2.9059000000
_cell_length_b         2.9059000000
_cell_length_c         2.8376700000
_cell_angle_alpha        90.0000
_cell_angle_beta        90.0000
_cell_angle_gamma       120.0000
_cell_volume            20.751708
_space_group_crystal_system hexagonal
_space_group_IT_number 187
_space_group_name_H-M_alt 'P-6m2'
_space_group_name_Hall 'P -6 2'
loop_
_space_group_symop_operation_xyz
  'x,y,z'
  '-x+y,-x,-z'
  '-y,x-y,z'
  'x,y,-z'
  '-x+y,-x,z'
  '-y,x-y,-z'
  '-y,-x,-z'
  'x,x-y,z'
  '-x+y,y,-z'
  '-y,-x,z'
  'x,x-y,-z'
  '-x+y,y,z'
loop_
_atom_site_label
_atom_site_type_symbol
_atom_site_fract_x
_atom_site_fract_y
_atom_site_fract_z
W      W      0.00000000000000     0.00000000000000     0.00000000000000
C      C      0.66666667000000     0.33333333000000     0.50000000000000
